BEGIN:VCALENDAR
VERSION:2.0
PRODID:-//ChamberMaster//Event Calendar 2.0//EN
METHOD:PUBLISH
X-PUBLISHED-TTL:P3D
REFRESH-INTERVAL:P3D
CALSCALE:GREGORIAN
BEGIN:VEVENT
DTSTART:20150428T223000Z
DTEND:20150428T223000Z
X-MICROSOFT-CDO-ALLDAYEVENT:FALSE
SUMMARY:2015 Mudbug Bash
DESCRIPTION:2016 Mudbug Bash\n\nHosted by: Flowood Young Professional Committee
X-ALT-DESC;FMTTYPE=text/html:2016&nbsp\;Mudbug Bash<br />\nHosted by: Flowood Young Professional Committee<br />\n&nbsp\;
LOCATION:Mudbugs Crawfish & Catering 1299 Old Fannin Road Brandon\, MS 39047 (behind the Farmer's Market)
UID:e.1195.3379
SEQUENCE:3
DTSTAMP:20260425T172305Z
URL:https://members.flowoodchamber.com/events/details/2015-mudbug-bash-04-28-2015-3379
END:VEVENT

END:VCALENDAR
