BEGIN:VCALENDAR
VERSION:2.0
PRODID:-//ChamberMaster//Event Calendar 2.0//EN
METHOD:PUBLISH
X-PUBLISHED-TTL:P3D
REFRESH-INTERVAL:P3D
CALSCALE:GREGORIAN
BEGIN:VEVENT
DTSTART:20190920T123000Z
DTEND:20190920T123000Z
X-MICROSOFT-CDO-ALLDAYEVENT:FALSE
SUMMARY:2019 Chamber Cup Golf Tournament Day 2
DESCRIPTION:Join us for our 4 man scramble Chamber Cup Golf Tournament
X-ALT-DESC;FMTTYPE=text/html:Join us for our 4 man scramble Chamber Cup Golf Tournament
LOCATION:Castlewoods Country Club
UID:e.1195.5549
SEQUENCE:3
DTSTAMP:20260422T003817Z
URL:https://members.flowoodchamber.com/events/details/2019-chamber-cup-golf-tournament-day-2-5549
END:VEVENT

END:VCALENDAR
