BEGIN:VCALENDAR
VERSION:2.0
PRODID:-//ChamberMaster//Event Calendar 2.0//EN
METHOD:PUBLISH
X-PUBLISHED-TTL:P3D
REFRESH-INTERVAL:P3D
CALSCALE:GREGORIAN
BEGIN:VEVENT
DTSTART:20191023T160000Z
DTEND:20191023T180000Z
X-MICROSOFT-CDO-ALLDAYEVENT:FALSE
SUMMARY:2019 Flu Shot Clinic
DESCRIPTION:Join the Flowood Chamber and TrustCare for a Flu Shot Clinic.\n\n*Bring your license and insurance card if you are planning to file on insurance.
X-ALT-DESC;FMTTYPE=text/html:Join the Flowood Chamber and TrustCare for a Flu Shot Clinic.<br />\n*Bring your license and insurance card if you are planning to file on insurance.
LOCATION:Flowood Chamber
UID:e.1195.5565
SEQUENCE:3
DTSTAMP:20260421T231020Z
URL:https://members.flowoodchamber.com/events/details/2019-flu-shot-clinic-5565
END:VEVENT

END:VCALENDAR
