BEGIN:VCALENDAR
VERSION:2.0
PRODID:-//ChamberMaster//Event Calendar 2.0//EN
METHOD:PUBLISH
X-PUBLISHED-TTL:P3D
REFRESH-INTERVAL:P3D
CALSCALE:GREGORIAN
BEGIN:VEVENT
DTSTART:20190516T223000Z
DTEND:20190517T010000Z
X-MICROSOFT-CDO-ALLDAYEVENT:FALSE
SUMMARY:2019 Mudbug Bash
DESCRIPTION:Hosted by: Flowood Flex
X-ALT-DESC;FMTTYPE=text/html:Hosted by: Flowood Flex
LOCATION:The Flowood Nature Park 4077 Flowood Dr Flowood\, MS 39232
UID:e.1195.5528
SEQUENCE:3
DTSTAMP:20260422T070357Z
URL:https://members.flowoodchamber.com/events/details/2019-mudbug-bash-5528
END:VEVENT

END:VCALENDAR
