BEGIN:VCALENDAR
VERSION:2.0
PRODID:-//ChamberMaster//Event Calendar 2.0//EN
METHOD:PUBLISH
X-PUBLISHED-TTL:P3D
REFRESH-INTERVAL:P3D
CALSCALE:GREGORIAN
BEGIN:VEVENT
DTSTART:20250117T140000Z
DTEND:20250117T210000Z
X-MICROSOFT-CDO-ALLDAYEVENT:FALSE
SUMMARY:2024 CyberSecure Mississippi (free event for small businesses\, lunch provided)
DESCRIPTION:Attention Mississippi Business Owners!\n\nDid you know 60% of small businesses close within 6 months of being hacked? Protect your business and join us for CyberSecure Mississippi! \n\n\n\nRegister today for this FREE\, one-day event\, aimed to provide essential guidance and resources to help protect small businesses from cyber attacks. Lunch will be provided to all participants\, and all small\, local businesses are invited to attend. This is for business owners\, not just the "tech guy"!\n\n\n\nHear from a distinguished lineup of guest speakers from the MS Homeland Security Office\, the Federal Cybersecurity Infrastructure Agency\, and the Small Business Development Center.\n\n\n\nEngage with experts in the field\, and learn about...\n\n	Basic Cybersecurity Awareness\n	System Security Plans\n	Cyber Policies\n	Cyber Resources\n	Managed Service Providers\n	Incident Response\n\n\n\nThis event is sponsored by the Small Business Administration and the Mississippi State University Center for Cyber Education.
X-ALT-DESC;FMTTYPE=text/html:<strong><span style="color:black\;"><span style="font-family:aptos\,sans-serif\;"><span style="font-size:12.0pt\;">Attention Mississippi Business Owners!</span></span></span></strong><br />\n<span style="color:black\;"><span style="font-family:aptos\,sans-serif\;"><span style="font-size:12.0pt\;">Did you know <strong>60% of small businesses close within 6 months of being hacked</strong>? Protect your business and join us for <strong>CyberSecure Mississippi</strong>!&nbsp\;</span></span><br />\n<br />\nRegister today for this FREE\, one-day event\, aimed to provide essential guidance and resources to help protect small businesses from cyber attacks. Lunch will be provided to all participants\, and all small\, local businesses are invited to attend.&nbsp\;</span><span style="color: rgb(0\, 0\, 0)\;">This is for business owners\, not just the &quot\;tech guy&quot\;!</span><br />\n<br />\n<span style="color:#000000\;">Hear from a distinguished lineup of guest speakers from the MS Homeland Security Office\, the Federal Cybersecurity Infrastructure Agency\, and the Small Business Development Center.<br />\n<br />\nEngage with experts in the field\, and learn about...</span>\n<ul>\n	<li><span style="color:#000000\;">Basic Cybersecurity Awareness</span></li>\n	<li><span style="color:#000000\;">System Security Plans</span></li>\n	<li><span style="color:#000000\;">Cyber Policies</span></li>\n	<li><span style="color:#000000\;">Cyber Resources</span></li>\n	<li><span style="color:#000000\;">Managed Service Providers</span></li>\n	<li><span style="color:#000000\;">Incident Response</span></li>\n</ul>\n<br />\n<span style="color:black\;"><span style="font-family:aptos\,sans-serif\;"><span style="font-size:12.0pt\;">This event is sponsored by the Small Business Administration and the Mississippi State University Center for Cyber Education.&nbsp\;</span></span></span>
LOCATION:Sheraton Flowood The Refuge Hotel & Conference Center
UID:e.1195.6663
SEQUENCE:3
DTSTAMP:20260422T100619Z
URL:https://members.flowoodchamber.com/events/details/2024-cybersecure-mississippi-free-event-for-small-businesses-lunch-provided-6663
END:VEVENT

END:VCALENDAR
