BEGIN:VCALENDAR
VERSION:2.0
PRODID:-//ChamberMaster//Event Calendar 2.0//EN
METHOD:PUBLISH
X-PUBLISHED-TTL:P3D
REFRESH-INTERVAL:P3D
CALSCALE:GREGORIAN
BEGIN:VEVENT
DTSTART:20251211T233000Z
DTEND:20251212T020000Z
X-MICROSOFT-CDO-ALLDAYEVENT:FALSE
SUMMARY:2025 Chili Cook-Off and Grand Lighting of the Park
DESCRIPTION:EVENT UPDATE: Rescheduled to Dec. 11 due to inclement weather. All tickets purchased for Dec. 4 will be honored on Dec. 11.\n\n\n\nJoin us on December 11th for the 2025 Chili Cook-Off & Grand Lighting of Winner's Circle Park!\n\n \n\nCity of Flowood's Grand Lighting of the Park\n\nAttendance is free for all to join in the City of Flowood's Grand Lighting festivities\, which include thousands of Christmas lights around Winner's Circle Park\, hot cocoa\, Trail of Trees\, and MORE all while local businesses compete in a family-friendly chili competition!\n\n \n\nChamber of Flowood's Chili Cook-Off\n\nFor the Chamber's Chili Cook-Off\, buy your tickets online here or register a team for free today to participate in the chili competition! Tickets are also available for purchase at the event and at the Chamber of Flowood without a processing fee.\n\n \n\nAll tickets include a sample from each chili team\, one full bowl of your favorite chili\, and a water. A portion of the proceeds go to the Chamber of Flowood scholarship program\, which benefits high school seniors from Hartfield Academy\, Jackson Preparatory School\, and Northwest Rankin High School.\n\n \n\nParticipation in the chili competition is exclusive to Chamber of Flowood members. It is free to register a team   contact the Flowood Chamber office for a team registration form or register online by clicking "SelectTickets" on Eventbrite. Awards range from 1st\, 2nd\, and 3rd place to People's Choice and Best Team Spirit channel your inner chili chef and claim your title for best chili!\n\n \n\nSpecial thank you to the 2025 Chili Cook-Off sponsor\, Community Bank!
X-ALT-DESC;FMTTYPE=text/html:<h3 helvetica="" neue="" style="margin: 0px\; padding: 0px\; box-sizing: border-box\; font-size: 20px\; line-height: 1.75rem\;"><span style="color: rgb(30\, 10\, 60)\;"><strong>EVENT UPDATE: Rescheduled to Dec. 11 due to inclement weather. All tickets purchased for Dec. 4 will be honored on Dec. 11.</strong><br />\n<br />\nJoin us on December 11th for the 2025 Chili Cook-Off &amp\; Grand Lighting of Winner&rsquo\;s Circle Park!<br />\n&nbsp\;<br />\n<strong>City of Flowood&#39\;s Grand Lighting of the Park</strong><br />\nAttendance is free for all to join in the City of Flowood&#39\;s Grand Lighting festivities\, which include thousands of Christmas lights around Winner&rsquo\;s Circle Park\, hot cocoa\, Trail of Trees\, and MORE all while local businesses compete in a family-friendly chili competition!<br />\n&nbsp\;<br />\n<strong>Chamber of Flowood&#39\;s Chili Cook-Off</strong><br />\nFor the Chamber&#39\;s Chili Cook-Off\, buy your tickets online </span><a href="https://www.eventbrite.com/e/2025-chili-cook-off-grand-lighting-of-the-park-tickets-1758420325529?aff=oddtdtcreator"><font color="#008080"><b><u>here</u>&nbsp\;</b></font></a><font color="#1e0a3c">or register a team for free today to participate in the chili competition! <strong>Tickets are also available for purchase at the event and at the Chamber of Flowood without a processing fee.</strong></font><br />\n<font color="#1e0a3c">&nbsp\;</font><br />\n<font color="#1e0a3c">All tickets include a sample from each chili team\, one full bowl of your favorite chili\, and a water. A portion of the proceeds go to the Chamber of Flowood scholarship program\, which benefits high school seniors from Hartfield Academy\, Jackson Preparatory School\, and Northwest Rankin High School.</font><br />\n<font color="#1e0a3c">&nbsp\;</font><br />\n<font color="#1e0a3c"><strong>Participation in the chili competition is exclusive to Chamber of Flowood members</strong>. It is free to register a team &mdash\; contact the Flowood Chamber office for a team registration form or register online by clicking &quot\;SelectTickets&quot\; on Eventbrite</font><font color="#1e0a3c">. Awards range from 1st\, 2nd\, and 3rd place to People&rsquo\;s Choice and Best Team Spirit&hellip\;channel your inner chili chef and claim your title for best chili!</font><br />\n<font color="#1e0a3c">&nbsp\;</font><br />\n<em style="color: rgb(30\, 10\, 60)\;"><strong>Special thank you to the 2025&nbsp\;Chili Cook-Off sponsor\, Community Bank!</strong></em></h3>\n
LOCATION:Winner's Circle Park
UID:e.1195.6731
SEQUENCE:3
DTSTAMP:20260419T162940Z
URL:https://members.flowoodchamber.com/events/details/2025-chili-cook-off-and-grand-lighting-of-the-park-6731
END:VEVENT

END:VCALENDAR
