BEGIN:VCALENDAR
VERSION:2.0
PRODID:-//ChamberMaster//Event Calendar 2.0//EN
METHOD:PUBLISH
X-PUBLISHED-TTL:P3D
REFRESH-INTERVAL:P3D
CALSCALE:GREGORIAN
BEGIN:VEVENT
DTSTART:20250510T210000Z
DTEND:20250511T030000Z
X-MICROSOFT-CDO-ALLDAYEVENT:FALSE
SUMMARY:2025 Flowood Family Festival
DESCRIPTION:The Flowood Family Festival returns to Liberty Park on May 10 and will feature contemporary Christian music artist\, Crowder\, as the headliner. Known for his innovative blend of folk\, rock\, electronic\, and urban elements\, Crowder's distinct style is characterized by his soulful vocals and eclectic instrumentation. With over 2.1 billion global streams\, five No. 1 radio singles\, five GRAMMY nominations\, and over 20 Dove Award nominations\, Crowder is one of the most influential voices in contemporary Christian music.\n\n \n\nRising Christian artist and powerhouse vocalist Charity Gayle will take the stage at 6:45 p.m. ahead of Crowder. A recent Dove Award recipient\, Gayle writes music that ignites faith and revival\, emphasizing themes of redemption\, grace\, and the transformative power of Jesus' name.\n\n \n\nSince 1999\, the City of Flowood has hosted the Flowood Family Festival\, an outdoor concert that kicks off the summer season with live music\, kids' activities\, fair food\, fireworks\, and more. Free admission is made possible by the City of Flowood with the support of Flowood Parks and Recreation sponsors and Visit Mississippi.\n\n \n\nThe festival will open at 4 p.m. with space jumps and activities for the kids\, food vendors from local Flowood restaurants\, and live music from Light of Mine. A fireworks display will follow Crowder's performance\, which begins at 8:30 p.m.\n\n \n\nFor more information\, visit cityofflowood.com or contact the Parks and Recreation Department at 601-992-4440.\n\n \n\nFor a look back at all the past performances from Flowood Family Festival\, go to visitflowood.com.
X-ALT-DESC;FMTTYPE=text/html:<h3 style="margin: 0px\; padding: 0px\; box-sizing: border-box\; font-size: 17px\; line-height: 21px\; color: rgb(30\, 10\, 60)\; font-family: &quot\;Neue Plak&quot\;\, -apple-system\, BlinkMacSystemFont\, Roboto\, &quot\;Helvetica Neue&quot\;\, Helvetica\, Tahoma\, Arial\, sans-serif\;">The Flowood Family Festival returns to Liberty Park on May 10 and will feature contemporary Christian music artist\, Crowder\, as the headliner. Known for his innovative blend of folk\, rock\, electronic\, and urban elements\, Crowder&rsquo\;s distinct style is characterized by his soulful vocals and eclectic instrumentation. With over 2.1 billion global streams\, five No. 1 radio singles\, five GRAMMY nominations\, and over 20 Dove Award nominations\, Crowder is one of the most influential voices in contemporary Christian music.</h3>\n\n<h3 style="margin: 0px\; padding: 10px 0px 0px\; box-sizing: border-box\; font-size: 17px\; line-height: 21px\; color: rgb(30\, 10\, 60)\; font-family: &quot\;Neue Plak&quot\;\, -apple-system\, BlinkMacSystemFont\, Roboto\, &quot\;Helvetica Neue&quot\;\, Helvetica\, Tahoma\, Arial\, sans-serif\;">&nbsp\;</h3>\n\n<h3 style="margin: 0px\; padding: 10px 0px 0px\; box-sizing: border-box\; font-size: 17px\; line-height: 21px\; color: rgb(30\, 10\, 60)\; font-family: &quot\;Neue Plak&quot\;\, -apple-system\, BlinkMacSystemFont\, Roboto\, &quot\;Helvetica Neue&quot\;\, Helvetica\, Tahoma\, Arial\, sans-serif\;">Rising Christian artist and powerhouse vocalist Charity Gayle will take the stage at 6:45 p.m. ahead of Crowder. A recent Dove Award recipient\, Gayle writes music that ignites faith and revival\, emphasizing themes of redemption\, grace\, and the transformative power of Jesus&#39\; name.</h3>\n\n<h3 style="margin: 0px\; padding: 10px 0px 0px\; box-sizing: border-box\; font-size: 17px\; line-height: 21px\; color: rgb(30\, 10\, 60)\; font-family: &quot\;Neue Plak&quot\;\, -apple-system\, BlinkMacSystemFont\, Roboto\, &quot\;Helvetica Neue&quot\;\, Helvetica\, Tahoma\, Arial\, sans-serif\;">&nbsp\;</h3>\n\n<h3 style="margin: 0px\; padding: 10px 0px 0px\; box-sizing: border-box\; font-size: 17px\; line-height: 21px\; color: rgb(30\, 10\, 60)\; font-family: &quot\;Neue Plak&quot\;\, -apple-system\, BlinkMacSystemFont\, Roboto\, &quot\;Helvetica Neue&quot\;\, Helvetica\, Tahoma\, Arial\, sans-serif\;">Since 1999\, the City of Flowood has hosted the Flowood Family Festival\, an outdoor concert that kicks off the summer season with live music\, kids&rsquo\; activities\, fair food\, fireworks\, and more. Free admission is made possible by the City of Flowood with the support of Flowood Parks and Recreation sponsors and Visit Mississippi.</h3>\n\n<h3 style="margin: 0px\; padding: 10px 0px 0px\; box-sizing: border-box\; font-size: 17px\; line-height: 21px\; color: rgb(30\, 10\, 60)\; font-family: &quot\;Neue Plak&quot\;\, -apple-system\, BlinkMacSystemFont\, Roboto\, &quot\;Helvetica Neue&quot\;\, Helvetica\, Tahoma\, Arial\, sans-serif\;">&nbsp\;</h3>\n\n<h3 style="margin: 0px\; padding: 10px 0px 0px\; box-sizing: border-box\; font-size: 17px\; line-height: 21px\; color: rgb(30\, 10\, 60)\; font-family: &quot\;Neue Plak&quot\;\, -apple-system\, BlinkMacSystemFont\, Roboto\, &quot\;Helvetica Neue&quot\;\, Helvetica\, Tahoma\, Arial\, sans-serif\;">The festival will open at 4 p.m. with space jumps and activities for the kids\, food vendors from local Flowood restaurants\, and live music from Light of Mine. A fireworks display will follow Crowder&rsquo\;s performance\, which begins at 8:30 p.m.</h3>\n\n<h3 style="margin: 0px\; padding: 10px 0px 0px\; box-sizing: border-box\; font-size: 17px\; line-height: 21px\; color: rgb(30\, 10\, 60)\; font-family: &quot\;Neue Plak&quot\;\, -apple-system\, BlinkMacSystemFont\, Roboto\, &quot\;Helvetica Neue&quot\;\, Helvetica\, Tahoma\, Arial\, sans-serif\;">&nbsp\;</h3>\n\n<h3 style="margin: 0px\; padding: 10px 0px 0px\; box-sizing: border-box\; font-size: 17px\; line-height: 21px\; color: rgb(30\, 10\, 60)\; font-family: &quot\;Neue Plak&quot\;\, -apple-system\, BlinkMacSystemFont\, Roboto\, &quot\;Helvetica Neue&quot\;\, Helvetica\, Tahoma\, Arial\, sans-serif\;">For more information\, visit&nbsp\;<a data-msys-clicktrack="0" href="http://www.flowoodchamber.com/" rel="nofollow noopener noreferrer" style="background-color: transparent\; color: var(--eds-control\,#3659e3)\; box-sizing: border-box\; padding-top: 0px\;" target="_blank" title="http://www.flowoodchamber.com">cityofflowood.com</a>&nbsp\;or contact the Parks and Recreation Department at 601-992-4440.</h3>\n\n<h3 style="margin: 0px\; padding: 10px 0px 0px\; box-sizing: border-box\; font-size: 17px\; line-height: 21px\; color: rgb(30\, 10\, 60)\; font-family: &quot\;Neue Plak&quot\;\, -apple-system\, BlinkMacSystemFont\, Roboto\, &quot\;Helvetica Neue&quot\;\, Helvetica\, Tahoma\, Arial\, sans-serif\;">&nbsp\;</h3>\n\n<h3 style="margin: 0px\; padding: 10px 0px 0px\; box-sizing: border-box\; font-size: 17px\; line-height: 21px\; color: rgb(30\, 10\, 60)\; font-family: &quot\;Neue Plak&quot\;\, -apple-system\, BlinkMacSystemFont\, Roboto\, &quot\;Helvetica Neue&quot\;\, Helvetica\, Tahoma\, Arial\, sans-serif\;">For a look back at all the past performances from Flowood Family Festival\, go to&nbsp\;<a data-msys-clicktrack="0" href="https://visitflowood.com/" rel="nofollow noopener noreferrer" style="background-color: transparent\; color: var(--eds-control\,#3659e3)\; box-sizing: border-box\; padding-top: 0px\;" target="_blank" title="https://visitflowood.com/">visitflowood.com</a>.</h3>\n
LOCATION:Liberty Park (behind Flowood YMCA)
UID:e.1195.6686
SEQUENCE:3
DTSTAMP:20260420T050448Z
URL:https://members.flowoodchamber.com/events/details/2025-flowood-family-festival-6686
END:VEVENT

END:VCALENDAR
