BEGIN:VCALENDAR
VERSION:2.0
PRODID:-//ChamberMaster//Event Calendar 2.0//EN
METHOD:PUBLISH
X-PUBLISHED-TTL:P3D
REFRESH-INTERVAL:P3D
CALSCALE:GREGORIAN
BEGIN:VEVENT
DTSTART:20250425T123000Z
DTEND:20250425T150000Z
X-MICROSOFT-CDO-ALLDAYEVENT:FALSE
SUMMARY:2025 Mayor's Prayer Breakfast
DESCRIPTION:The City of Flowood is honored to host the Annual Mayor's Prayer Breakfast\, Friday\, April 25\, 2025.  We are offering a VIP Table of (8) for $300.00 on a first come basis. Thank you for partnering and investing with the City of Flowood as we continue to thank God for his great provisions throughout our city. The morning will be filled with prayer\, worship\, and fellowship.  We would be grateful to have you attend this breakfast event.\n\n\nTables are limited. If you are interested in attending\, please RSVP to Tamela Bowers as soon as possible.
X-ALT-DESC;FMTTYPE=text/html:<p align="center" class="xmsonormal" style="text-align:center"><span style="font-size:16.0pt\;font-family:&quot\;Calibri Light&quot\;\,sans-serif">The City of Flowood is honored to host the Annual Mayor&rsquo\;s Prayer Breakfast\, Friday\, April 25\, 2025.&nbsp\; We are offering a VIP Table of (8) for $300.00 on a first come basis. Thank you for partnering and investing with the City of Flowood as we continue to thank God for his great provisions throughout our city. The morning will be filled with prayer\, worship\, and fellowship.&nbsp\; We would be grateful to have you attend this breakfast event.</span><o:p></o:p></p>\n<br />\n<span style="font-size:22px\;"><strong>Tables are limited. If you are interested in attending\, please RSVP to Tamela Bowers as soon as possible.</strong></span>
LOCATION:Sheraton Flowood The Refuge Hotel & Conference Center
UID:e.1195.6693
SEQUENCE:3
DTSTAMP:20260420T063647Z
URL:https://members.flowoodchamber.com/events/details/2025-mayor-s-prayer-breakfast-6693
END:VEVENT

END:VCALENDAR
