BEGIN:VCALENDAR
VERSION:2.0
PRODID:-//ChamberMaster//Event Calendar 2.0//EN
METHOD:PUBLISH
X-PUBLISHED-TTL:P3D
REFRESH-INTERVAL:P3D
CALSCALE:GREGORIAN
BEGIN:VEVENT
DTSTART:20241221T010000Z
DTEND:20241222T220000Z
X-MICROSOFT-CDO-ALLDAYEVENT:FALSE
SUMMARY:Ballet Magnificat! Presents "Light Has Come" at Jackson Prep
DESCRIPTION:Ballet Magnificat!\, America's longest-running Christian ballet company\, will present "Light Has Come: The Angels' Story" at Jackson Preparatory School's Fortenberry Theatre on December 20th\, 21st\, and 22nd.\n\n\n\n"Light Has Come: The Angels' Story" follows the life of Jesus from birth to resurrection but is told entirely from the perspective of the Angels. The production features a cast of 130 dancers\, including Ballet Magnificat's professional company\, three trainee companies\, and 65 local students.\n\n\n\nTickets are on sale now and can be purchased at balletmagnificat.com/christmas.\n\n\n\nABOUT BALLET MAGNIFICAT!:\n\n\n\nBallet Magnificat!\, an arts organization dedicated to presenting the good news of Jesus Christ to the whole world\, was founded in 1986 by Keith and Kathy Thibodeaux. Since its start in 1986\, the company has attracted dancers from professional companies around the world and now also from within Ballet Magnificat's own professional training program. Learn more about their story here.
X-ALT-DESC;FMTTYPE=text/html:Ballet Magnificat!\, America&rsquo\;s longest-running Christian ballet company\, will present <a href="https://www.youtube.com/watch?v=KiJH8JI4K1w">&ldquo\;Light Has Come: The Angels&rsquo\; Story&rdquo\;</a> at Jackson Preparatory School&rsquo\;s Fortenberry Theatre on <strong>December 20th\, 21st\, and 22nd</strong>.<br />\n<br />\n&quot\;Light Has Come: The Angels&rsquo\; Story&quot\; follows the life of Jesus from birth to resurrection but is told entirely from the perspective of the Angels. The production features a cast of 130 dancers\, including Ballet Magnificat&rsquo\;s professional company\, three trainee companies\, and 65 local students.<br />\n<br />\nTickets are on sale now and can be purchased at <a href="https://www.balletmagnificat.com/christmas">balletmagnificat.com/christmas</a>.<br />\n<br />\n<strong>ABOUT BALLET MAGNIFICAT!:</strong><br />\n<br />\nBallet Magnificat!\, an arts organization dedicated to presenting the good news of Jesus Christ to the whole world\, was founded in 1986 by Keith and Kathy Thibodeaux. Since its start in 1986\, the company has attracted dancers from professional companies around the world and now also from within Ballet Magnificat&rsquo\;s own professional training program. Learn more about their story <a href="https://www.balletmagnificat.com/about-story">here</a>.
LOCATION:Jackson Preparatory School - Fortenberry Theatre
UID:e.1195.6643
SEQUENCE:3
DTSTAMP:20260424T134107Z
URL:https://members.flowoodchamber.com/events/details/ballet-magnificat-presents-light-has-come-at-jackson-prep-6643
END:VEVENT

END:VCALENDAR
