BEGIN:VCALENDAR
VERSION:2.0
PRODID:-//ChamberMaster//Event Calendar 2.0//EN
METHOD:PUBLISH
X-PUBLISHED-TTL:P3D
REFRESH-INTERVAL:P3D
CALSCALE:GREGORIAN
BEGIN:VEVENT
DTSTART:20150406T210000Z
DTEND:20150406T210000Z
X-MICROSOFT-CDO-ALLDAYEVENT:FALSE
SUMMARY:Barnett Reservoir Foundation RC
DESCRIPTION:Ribbon Cutting
X-ALT-DESC;FMTTYPE=text/html:Ribbon Cutting
LOCATION:115 Madison Landing Circle Ridgeland\, MS 39157
UID:e.1195.4335
SEQUENCE:3
DTSTAMP:20260425T172332Z
URL:https://members.flowoodchamber.com/events/details/barnett-reservoir-foundation-rc-04-06-2015-4335
END:VEVENT

END:VCALENDAR
