BEGIN:VCALENDAR
VERSION:2.0
PRODID:-//ChamberMaster//Event Calendar 2.0//EN
METHOD:PUBLISH
X-PUBLISHED-TTL:P3D
REFRESH-INTERVAL:P3D
CALSCALE:GREGORIAN
BEGIN:VEVENT
DTSTART:20150402T210000Z
DTEND:20150402T210000Z
X-MICROSOFT-CDO-ALLDAYEVENT:FALSE
SUMMARY:Bracken Construction Company RC
DESCRIPTION:Ribbon Cutting/Open House
X-ALT-DESC;FMTTYPE=text/html:Ribbon Cutting/Open House
LOCATION:3897 Underwood Drive Flowood\, MS 39232
UID:e.1195.4333
SEQUENCE:3
DTSTAMP:20260425T172333Z
URL:https://members.flowoodchamber.com/events/details/bracken-construction-company-rc-04-02-2015-4333
END:VEVENT

END:VCALENDAR
