BEGIN:VCALENDAR
VERSION:2.0
PRODID:-//ChamberMaster//Event Calendar 2.0//EN
METHOD:PUBLISH
X-PUBLISHED-TTL:P3D
REFRESH-INTERVAL:P3D
CALSCALE:GREGORIAN
BEGIN:VEVENT
DTSTART:20200108T143000Z
DTEND:20200108T143000Z
X-MICROSOFT-CDO-ALLDAYEVENT:FALSE
SUMMARY:Business Development
DESCRIPTION:Business Development Meeting
X-ALT-DESC;FMTTYPE=text/html:Business Development Meeting
LOCATION:University Physicians-Grants Ferry
UID:e.1195.4192
SEQUENCE:3
DTSTAMP:20260421T175431Z
URL:https://members.flowoodchamber.com/events/details/business-development-08-10-2016-4192
END:VEVENT

END:VCALENDAR
