BEGIN:VCALENDAR
VERSION:2.0
PRODID:-//ChamberMaster//Event Calendar 2.0//EN
METHOD:PUBLISH
X-PUBLISHED-TTL:P3D
REFRESH-INTERVAL:P3D
CALSCALE:GREGORIAN
BEGIN:VEVENT
DTSTART:20190619T190000Z
DTEND:20190619T190000Z
X-MICROSOFT-CDO-ALLDAYEVENT:FALSE
SUMMARY:Celebrate Hinds Expansion Rankin Campus
DESCRIPTION:Hinds Rankin Campus Expansion
X-ALT-DESC;FMTTYPE=text/html:Hinds Rankin Campus Expansion
LOCATION:11 Community College Blvd Pearl\, MS 39232
UID:e.1195.5535
SEQUENCE:3
DTSTAMP:20260422T052040Z
URL:https://members.flowoodchamber.com/events/details/celebrate-hinds-expansion-rankin-campus-5535
END:VEVENT

END:VCALENDAR
