BEGIN:VCALENDAR
VERSION:2.0
PRODID:-//ChamberMaster//Event Calendar 2.0//EN
METHOD:PUBLISH
X-PUBLISHED-TTL:P3D
REFRESH-INTERVAL:P3D
CALSCALE:GREGORIAN
BEGIN:VEVENT
DTSTART;VALUE=DATE:20241224
DTEND;VALUE=DATE:20241226
TRANSP:TRANSPARENT
X-MICROSOFT-CDO-ALLDAYEVENT:TRUE
SUMMARY:Chamber office closed for Christmas
DESCRIPTION:Chamber office closed in observance of Christmas
X-ALT-DESC;FMTTYPE=text/html:Chamber office closed in observance of Christmas
LOCATION:
UID:e.1195.6658
SEQUENCE:3
DTSTAMP:20260424T114232Z
URL:https://members.flowoodchamber.com/events/details/chamber-office-closed-for-christmas-6658
END:VEVENT

END:VCALENDAR
