BEGIN:VCALENDAR
VERSION:2.0
PRODID:-//ChamberMaster//Event Calendar 2.0//EN
METHOD:PUBLISH
X-PUBLISHED-TTL:P3D
REFRESH-INTERVAL:P3D
CALSCALE:GREGORIAN
BEGIN:VEVENT
DTSTART:20191206T173000Z
DTEND:20191206T193000Z
X-MICROSOFT-CDO-ALLDAYEVENT:FALSE
SUMMARY:Christmas Open House
DESCRIPTION:Christmas Open House
X-ALT-DESC;FMTTYPE=text/html:Christmas Open House
LOCATION:Table 100 Conference Center 100 Ridge Way Flowood\, MS 39232
UID:e.1195.5306
SEQUENCE:3
DTSTAMP:20260421T205457Z
URL:https://members.flowoodchamber.com/events/details/christmas-open-house-5306
END:VEVENT

END:VCALENDAR
