BEGIN:VCALENDAR
VERSION:2.0
PRODID:-//ChamberMaster//Event Calendar 2.0//EN
METHOD:PUBLISH
X-PUBLISHED-TTL:P3D
REFRESH-INTERVAL:P3D
CALSCALE:GREGORIAN
BEGIN:VEVENT
DTSTART;VALUE=DATE:20190704
DTEND;VALUE=DATE:20190706
TRANSP:TRANSPARENT
X-MICROSOFT-CDO-ALLDAYEVENT:TRUE
SUMMARY:Closed for Independence Day
DESCRIPTION:Closed for Independence Day
X-ALT-DESC;FMTTYPE=text/html:Closed for Independence Day
LOCATION:
UID:e.1195.5539
SEQUENCE:3
DTSTAMP:20260422T034800Z
URL:https://members.flowoodchamber.com/events/details/closed-for-independence-day-5539
END:VEVENT

END:VCALENDAR
