BEGIN:VCALENDAR
VERSION:2.0
PRODID:-//ChamberMaster//Event Calendar 2.0//EN
METHOD:PUBLISH
X-PUBLISHED-TTL:P3D
REFRESH-INTERVAL:P3D
CALSCALE:GREGORIAN
BEGIN:VEVENT
DTSTART;VALUE=DATE:20190527
DTEND;VALUE=DATE:20190528
TRANSP:TRANSPARENT
X-MICROSOFT-CDO-ALLDAYEVENT:TRUE
SUMMARY:Closed for Memorial Day
DESCRIPTION:Closed for Memorial Day
X-ALT-DESC;FMTTYPE=text/html:Closed for Memorial Day
LOCATION:
UID:e.1195.5362
SEQUENCE:3
DTSTAMP:20260422T070601Z
URL:https://members.flowoodchamber.com/events/details/closed-for-memorial-day-5362
END:VEVENT

END:VCALENDAR
