BEGIN:VCALENDAR
VERSION:2.0
PRODID:-//ChamberMaster//Event Calendar 2.0//EN
METHOD:PUBLISH
X-PUBLISHED-TTL:P3D
REFRESH-INTERVAL:P3D
CALSCALE:GREGORIAN
BEGIN:VEVENT
DTSTART;VALUE=DATE:20191111
DTEND;VALUE=DATE:20191112
TRANSP:TRANSPARENT
X-MICROSOFT-CDO-ALLDAYEVENT:TRUE
SUMMARY:Closed for Veteran's Day
DESCRIPTION:The Flowood Chamber will be closed in observance of Veteran's Day
X-ALT-DESC;FMTTYPE=text/html:The Flowood Chamber will be closed in observance of Veteran&#39\;s Day
LOCATION:
UID:e.1195.5408
SEQUENCE:3
DTSTAMP:20260421T212029Z
URL:https://members.flowoodchamber.com/events/details/closed-for-veteran-s-day-5408
END:VEVENT

END:VCALENDAR
