BEGIN:VCALENDAR
VERSION:2.0
PRODID:-//ChamberMaster//Event Calendar 2.0//EN
METHOD:PUBLISH
X-PUBLISHED-TTL:P3D
REFRESH-INTERVAL:P3D
CALSCALE:GREGORIAN
BEGIN:VEVENT
DTSTART:20160908T153000Z
DTEND:20160908T153000Z
X-MICROSOFT-CDO-ALLDAYEVENT:FALSE
SUMMARY:Corner Clinic Urgent Care RC
DESCRIPTION:Ribbon Cutting
X-ALT-DESC;FMTTYPE=text/html:Ribbon Cutting
LOCATION:Corner Clinic Urgent Care 132 Lakeland Heights Blvd\, Ste. A Flowood\, MS 39232
UID:e.1195.5283
SEQUENCE:3
DTSTAMP:20260424T094635Z
URL:https://members.flowoodchamber.com/events/details/corner-clinic-urgent-care-rc-5283
END:VEVENT

END:VCALENDAR
