BEGIN:VCALENDAR
VERSION:2.0
PRODID:-//ChamberMaster//Event Calendar 2.0//EN
METHOD:PUBLISH
X-PUBLISHED-TTL:P3D
REFRESH-INTERVAL:P3D
CALSCALE:GREGORIAN
BEGIN:VEVENT
DTSTART:20191122T143000Z
DTEND:20191122T143000Z
X-MICROSOFT-CDO-ALLDAYEVENT:FALSE
SUMMARY:Dollars for Donuts
DESCRIPTION:A networking event for the members of the Flowood and Pearl Chambers.\n\nHosted by: Market House\n\nBring 50+ business cards to exchange and $1.00\n\nBenefitting: Tree of Angels
X-ALT-DESC;FMTTYPE=text/html:A networking event for the members of the Flowood and Pearl Chambers.<br />\nHosted by: Market House<br />\nBring 50+ business cards to exchange and $1.00<br />\nBenefitting: Tree of Angels
LOCATION:5647 Hwy 80 East\, Suite 1 Pearl\, MS 39208
UID:e.1195.3251
SEQUENCE:3
DTSTAMP:20260421T213802Z
URL:https://members.flowoodchamber.com/events/details/dollars-for-donuts-07-29-2016-3251
END:VEVENT

END:VCALENDAR
