BEGIN:VCALENDAR
VERSION:2.0
PRODID:-//ChamberMaster//Event Calendar 2.0//EN
METHOD:PUBLISH
X-PUBLISHED-TTL:P3D
REFRESH-INTERVAL:P3D
CALSCALE:GREGORIAN
BEGIN:VEVENT
DTSTART:20161004T153000Z
DTEND:20161004T153000Z
X-MICROSOFT-CDO-ALLDAYEVENT:FALSE
SUMMARY:Earth Walk\, Inc.
DESCRIPTION:Ribbon Cutting
X-ALT-DESC;FMTTYPE=text/html:Ribbon Cutting&nbsp\;&nbsp\;&nbsp\;&nbsp\;
LOCATION:2323 Lakeland Drive\, Suite C Flowood\, MS 39232
UID:e.1195.5292
SEQUENCE:3
DTSTAMP:20260424T075902Z
URL:https://members.flowoodchamber.com/events/details/earth-walk-inc-5292
END:VEVENT

END:VCALENDAR
