BEGIN:VCALENDAR
VERSION:2.0
PRODID:-//ChamberMaster//Event Calendar 2.0//EN
METHOD:PUBLISH
X-PUBLISHED-TTL:P3D
REFRESH-INTERVAL:P3D
CALSCALE:GREGORIAN
BEGIN:VEVENT
DTSTART:20190910T133000Z
DTEND:20190910T133000Z
X-MICROSOFT-CDO-ALLDAYEVENT:FALSE
SUMMARY:Education Committee Meeting
DESCRIPTION:Education Committee Meeting
X-ALT-DESC;FMTTYPE=text/html:Education Committee Meeting
LOCATION:Hartfield Academy
UID:e.1195.4547
SEQUENCE:3
DTSTAMP:20260422T003904Z
URL:https://members.flowoodchamber.com/events/details/education-committee-meeting-06-14-2016-4547
END:VEVENT

END:VCALENDAR
