BEGIN:VCALENDAR
VERSION:2.0
PRODID:-//ChamberMaster//Event Calendar 2.0//EN
METHOD:PUBLISH
X-PUBLISHED-TTL:P3D
REFRESH-INTERVAL:P3D
CALSCALE:GREGORIAN
BEGIN:VEVENT
DTSTART:20160803T153000Z
DTEND:20160803T153000Z
X-MICROSOFT-CDO-ALLDAYEVENT:FALSE
SUMMARY:Epiphany Creations RC
DESCRIPTION:Ribbon Cutting
X-ALT-DESC;FMTTYPE=text/html:Ribbon Cutting
LOCATION:5719 Hwy 25 Suite 105 Flowood\, MS 39232
UID:e.1195.5274
SEQUENCE:3
DTSTAMP:20260424T104941Z
URL:https://members.flowoodchamber.com/events/details/epiphany-creations-rc-08-03-2016-5274
END:VEVENT

END:VCALENDAR
