BEGIN:VCALENDAR
VERSION:2.0
PRODID:-//ChamberMaster//Event Calendar 2.0//EN
METHOD:PUBLISH
X-PUBLISHED-TTL:P3D
REFRESH-INTERVAL:P3D
CALSCALE:GREGORIAN
BEGIN:VEVENT
DTSTART:20190820T140000Z
DTEND:20190820T180000Z
X-MICROSOFT-CDO-ALLDAYEVENT:FALSE
SUMMARY:Flowood FLEX Blood Drive
DESCRIPTION:Flowood FLEX Blood Drive
X-ALT-DESC;FMTTYPE=text/html:Flowood FLEX Blood Drive
LOCATION:Flowood Chamber parking lot
UID:e.1195.5551
SEQUENCE:3
DTSTAMP:20260422T015225Z
URL:https://members.flowoodchamber.com/events/details/flowood-flex-blood-drive-5551
END:VEVENT

END:VCALENDAR
