BEGIN:VCALENDAR
VERSION:2.0
PRODID:-//ChamberMaster//Event Calendar 2.0//EN
METHOD:PUBLISH
X-PUBLISHED-TTL:P3D
REFRESH-INTERVAL:P3D
CALSCALE:GREGORIAN
BEGIN:VEVENT
DTSTART:20200115T173000Z
DTEND:20200115T173000Z
X-MICROSOFT-CDO-ALLDAYEVENT:FALSE
SUMMARY:Flowood FLEX Luncheon
DESCRIPTION:Flowood FLEX Luncheon
X-ALT-DESC;FMTTYPE=text/html:Flowood FLEX Luncheon
LOCATION:El Potrillo
UID:e.1195.5464
SEQUENCE:3
DTSTAMP:20260421T175424Z
URL:https://members.flowoodchamber.com/events/details/flowood-flex-luncheon-5464
END:VEVENT

END:VCALENDAR
