BEGIN:VCALENDAR
VERSION:2.0
PRODID:-//ChamberMaster//Event Calendar 2.0//EN
METHOD:PUBLISH
X-PUBLISHED-TTL:P3D
REFRESH-INTERVAL:P3D
CALSCALE:GREGORIAN
BEGIN:VEVENT
DTSTART:20190718T233000Z
DTEND:20190718T233000Z
X-MICROSOFT-CDO-ALLDAYEVENT:FALSE
SUMMARY:Flowood FLEX MS Braves Suite Night
DESCRIPTION:Flowood FLEX MS Braves Suite Night
X-ALT-DESC;FMTTYPE=text/html:Flowood FLEX MS Braves Suite Night<br />\n&nbsp\;
LOCATION:MS Braves Stadium
UID:e.1195.5538
SEQUENCE:3
DTSTAMP:20260422T032543Z
URL:https://members.flowoodchamber.com/events/details/flowood-flex-ms-braves-suite-night-5538
END:VEVENT

END:VCALENDAR
