BEGIN:VCALENDAR
VERSION:2.0
PRODID:-//ChamberMaster//Event Calendar 2.0//EN
METHOD:PUBLISH
X-PUBLISHED-TTL:P3D
REFRESH-INTERVAL:P3D
CALSCALE:GREGORIAN
BEGIN:VEVENT
DTSTART;VALUE=DATE:20250329
DTEND;VALUE=DATE:20250330
TRANSP:TRANSPARENT
X-MICROSOFT-CDO-ALLDAYEVENT:TRUE
SUMMARY:Flowood's Inaugural Big Dill Pickleball Tournament
DESCRIPTION:The City of Flowood is thrilled to debut Liberty Park's BRAND NEW pickleball courts with its Inaugural Big Dill Pickleball Tournament! The City of Flowood has proudly partnered with the experts\, Southern Pickleball\, to host this first tournament.\n\nRegister with Southern Pickleball by clicking the link here. \n\nSCHEDULE (Saturday\, Mar. 29\, 2025)\n\n8 AM: Men's & Women's Doubles\n\nAfternoon: Mixed doubles\n\nPlay one or both events! Specific start times for each event will be emailed to players one week prior to the event.\n\nSKILL LEVELS: 2.5\,3.0\, 3.5\, 4.0\, 4.5+\n\nAGE GROUPS: 15+\, 35+\, 50+\, 60+\, 70+\n\nRATINGS: DUPR\n\n     \n\nRegister with your partner or select "Need partner." Your partner must register within five days\, or your team will be waitlisted. If they register late\, your team will rejoin the active list if a slot is available and all fees are paid. Your spot is not guaranteed until both players are registered and paid in full.\n\nMatches are self-monitored. Referees are not provided\, but Southern Pickleball will try to accommodate requests.
X-ALT-DESC;FMTTYPE=text/html:<div class="xdj266r x11i5rnm xat24cr x1mh8g0r x1vvkbs" style="margin: 0px\; overflow-wrap: break-word\; font-family: &quot\;Segoe UI Historic&quot\;\, &quot\;Segoe UI&quot\;\, Helvetica\, Arial\, sans-serif\; color: rgb(8\, 8\, 9)\; font-size: 15px\;">The City of Flowood is thrilled to debut Liberty Park&rsquo\;s BRAND NEW pickleball courts with its Inaugural Big Dill Pickleball Tournament! The City of Flowood has proudly partnered with the experts\, Southern Pickleball\, to host this first tournament.</div>\n\n<div class="x11i5rnm xat24cr x1mh8g0r x1vvkbs xtlvy1s" style="margin: 0.5em 0px 0px\; overflow-wrap: break-word\; font-family: &quot\;Segoe UI Historic&quot\;\, &quot\;Segoe UI&quot\;\, Helvetica\, Arial\, sans-serif\; color: rgb(8\, 8\, 9)\; font-size: 15px\;">Register with Southern Pickleball by clicking the link <strong><a href="https://pickleballtournaments.com/tournaments/flowoods-inaugural-big-dill-tournament?fbclid=IwY2xjawI0JkhleHRuA2FlbQIxMAABHbCzP_1q4qdIz97zHjk84cyU_U_ToWXpp03hsbOeMps_Tiwi4GwJ1QiRYA_aem_BQRtAAmWtPvp-HS67kdjyw"><span style="color:#008080\;">here</span></a></strong>.&nbsp\;</div>\n\n<div class="x11i5rnm xat24cr x1mh8g0r x1vvkbs xtlvy1s" style="margin: 0.5em 0px 0px\; overflow-wrap: break-word\; font-family: &quot\;Segoe UI Historic&quot\;\, &quot\;Segoe UI&quot\;\, Helvetica\, Arial\, sans-serif\; color: rgb(8\, 8\, 9)\; font-size: 15px\;">SCHEDULE (Saturday\, Mar. 29\, 2025)<br class="html-br" />\n8 AM: Men&rsquo\;s &amp\; Women&rsquo\;s Doubles<br class="html-br" />\nAfternoon: Mixed doubles<br class="html-br" />\nPlay one or both events! Specific start times for each event will be emailed to players one week prior to the event.</div>\n\n<div class="x11i5rnm xat24cr x1mh8g0r x1vvkbs xtlvy1s" style="margin: 0.5em 0px 0px\; overflow-wrap: break-word\; font-family: &quot\;Segoe UI Historic&quot\;\, &quot\;Segoe UI&quot\;\, Helvetica\, Arial\, sans-serif\; color: rgb(8\, 8\, 9)\; font-size: 15px\;">SKILL LEVELS: 2.5\,3.0\, 3.5\, 4.0\, 4.5+<br class="html-br" />\nAGE GROUPS: 15+\, 35+\, 50+\, 60+\, 70+<br class="html-br" />\nRATINGS: DUPR</div>\n\n<div class="x11i5rnm xat24cr x1mh8g0r x1vvkbs xtlvy1s" style="margin: 0.5em 0px 0px\; overflow-wrap: break-word\; font-family: &quot\;Segoe UI Historic&quot\;\, &quot\;Segoe UI&quot\;\, Helvetica\, Arial\, sans-serif\; color: rgb(8\, 8\, 9)\; font-size: 15px\;">&bull\; &bull\; &bull\;</div>\n\n<div class="x11i5rnm xat24cr x1mh8g0r x1vvkbs xtlvy1s" style="margin: 0.5em 0px 0px\; overflow-wrap: break-word\; font-family: &quot\;Segoe UI Historic&quot\;\, &quot\;Segoe UI&quot\;\, Helvetica\, Arial\, sans-serif\; color: rgb(8\, 8\, 9)\; font-size: 15px\;">Register with your partner or select &quot\;Need partner.&quot\; Your partner must register within five days\, or your team will be waitlisted. If they register late\, your team will rejoin the active list if a slot is available and all fees are paid. Your spot is not guaranteed until both players are registered and paid in full.<br class="html-br" />\nMatches are self-monitored. Referees are not provided\, but Southern Pickleball will try to accommodate requests.</div>\n
LOCATION:Flowood Liberty Park
UID:e.1195.6680
SEQUENCE:3
DTSTAMP:20260420T080846Z
URL:https://members.flowoodchamber.com/events/details/flowood-s-inaugural-big-dill-pickleball-tournament-6680
END:VEVENT

END:VCALENDAR
