BEGIN:VCALENDAR
VERSION:2.0
PRODID:-//ChamberMaster//Event Calendar 2.0//EN
METHOD:PUBLISH
X-PUBLISHED-TTL:P3D
REFRESH-INTERVAL:P3D
CALSCALE:GREGORIAN
BEGIN:VEVENT
DTSTART:20250403T220000Z
DTEND:20250404T000000Z
X-MICROSOFT-CDO-ALLDAYEVENT:FALSE
SUMMARY:FREE Skin Assessments offered by Baptist Medical Group
DESCRIPTION:Worried about a mole or mark on your skin? Don't take a chance with skin cancer. \n\n\n\nTake advantage of this FREE skin assessment offered by Baptist medical Group - Richland Family Medicine.\n\n\n\nRegistration is requested\, and space is limited. To reserve your space\, call 601-973-1576.
X-ALT-DESC;FMTTYPE=text/html:Worried about a mole or mark on your skin? Don&#39\;t take a chance with skin cancer.&nbsp\;<br />\n<br />\nTake advantage of this FREE skin assessment offered by Baptist medical Group - Richland Family Medicine.<br />\n<br />\nRegistration is requested\, and space is limited. To reserve your space\, call 601-973-1576.
LOCATION:Baptist medical Group - Richland Family Medicine
UID:e.1195.6689
SEQUENCE:3
DTSTAMP:20260420T064027Z
URL:https://members.flowoodchamber.com/events/details/free-skin-assessments-offered-by-baptist-medical-group-6689
END:VEVENT

END:VCALENDAR
