BEGIN:VCALENDAR
VERSION:2.0
PRODID:-//ChamberMaster//Event Calendar 2.0//EN
METHOD:PUBLISH
X-PUBLISHED-TTL:P3D
REFRESH-INTERVAL:P3D
CALSCALE:GREGORIAN
BEGIN:VEVENT
DTSTART:20150520T150000Z
DTEND:20150520T150000Z
X-MICROSOFT-CDO-ALLDAYEVENT:FALSE
SUMMARY:Genghis Grill RC
DESCRIPTION:Ribbon Cutting
X-ALT-DESC;FMTTYPE=text/html:Ribbon Cutting
LOCATION:121 Market Street Flowood\, MS (Near Migi's)
UID:e.1195.3279
SEQUENCE:3
DTSTAMP:20260425T151033Z
URL:https://members.flowoodchamber.com/events/details/genghis-grill-rc-05-20-2015-3279
END:VEVENT

END:VCALENDAR
