BEGIN:VCALENDAR
VERSION:2.0
PRODID:-//ChamberMaster//Event Calendar 2.0//EN
METHOD:PUBLISH
X-PUBLISHED-TTL:P3D
REFRESH-INTERVAL:P3D
CALSCALE:GREGORIAN
BEGIN:VEVENT
DTSTART:20180426T150000Z
DTEND:20180426T150000Z
X-MICROSOFT-CDO-ALLDAYEVENT:FALSE
SUMMARY:Ground Breaking for Community Bank Mortgage
DESCRIPTION:Ground Breaking
X-ALT-DESC;FMTTYPE=text/html:Ground Breaking
LOCATION:Off Wirtz Road\, adjacent to Latter Rayne Subdivision entrance
UID:e.1195.5446
SEQUENCE:3
DTSTAMP:20260423T035430Z
URL:https://members.flowoodchamber.com/events/details/ground-breaking-for-community-bank-mortgage-5446
END:VEVENT

END:VCALENDAR
