BEGIN:VCALENDAR
VERSION:2.0
PRODID:-//ChamberMaster//Event Calendar 2.0//EN
METHOD:PUBLISH
X-PUBLISHED-TTL:P3D
REFRESH-INTERVAL:P3D
CALSCALE:GREGORIAN
BEGIN:VEVENT
DTSTART;VALUE=DATE:20250520
DTEND;VALUE=DATE:20250629
TRANSP:TRANSPARENT
X-MICROSOFT-CDO-ALLDAYEVENT:TRUE
SUMMARY:Help Rankin County send one of our own to Miss Mississippi!
DESCRIPTION:Now accepting business sponsors!\n\n\n\nAnna Leah Jolly is a proud Rankin County resident and adoptee from Ukraine. She came to America at age 11 with nothing but hope\, and now she uses her voice to advocate for foster and adopted children across Mississippi through her initiative\, Limitless.\n\n\n\nIn just a few weeks\, she'll be competing for Miss Mississippi 2025 and needs to raise $3\,000 to cover final competition expenses. \n\n\n\nYour support will not only help her step onto the Miss Mississippi stage but also empower her to share a message of resilience\, purpose\, and possibility   for every child who feels forgotten.\n\n\n\nGive. Share. Cheer. Let's make Rankin County proud!\n\nVenmo @AnnaLeah-Jolly
X-ALT-DESC;FMTTYPE=text/html:<strong>Now accepting business sponsors!</strong><br />\n<br />\nAnna Leah Jolly is a proud Rankin County resident and adoptee from Ukraine. She came to America at age 11 with nothing but hope\, and now she uses her voice to advocate for foster and adopted children across Mississippi through her initiative\, Limitless.<br />\n<br />\nIn just a few weeks\, she&#39\;ll be competing for Miss Mississippi 2025 and needs to raise $3\,000 to cover final competition expenses.&nbsp\;<br />\n<br />\nYour support will not only help her step onto the Miss Mississippi stage but also empower her to share a message of resilience\, purpose\, and possibility &mdash\; for every child who feels forgotten.<br />\n<br />\n<strong>Give. Share. Cheer. Let&#39\;s make Rankin County proud!<br />\nVenmo @AnnaLeah-Jolly</strong>
LOCATION:
UID:e.1195.6714
SEQUENCE:3
DTSTAMP:20260420T030858Z
URL:https://members.flowoodchamber.com/events/details/help-rankin-county-send-one-of-our-own-to-miss-mississippi-6714
END:VEVENT

END:VCALENDAR
