BEGIN:VCALENDAR
VERSION:2.0
PRODID:-//ChamberMaster//Event Calendar 2.0//EN
METHOD:PUBLISH
X-PUBLISHED-TTL:P3D
REFRESH-INTERVAL:P3D
CALSCALE:GREGORIAN
BEGIN:VEVENT
DTSTART:20170614T043000Z
DTEND:20170614T043000Z
X-MICROSOFT-CDO-ALLDAYEVENT:FALSE
SUMMARY:Jaco's Tacos RC
DESCRIPTION:Jaco's Tacos Ribbon Cutting
X-ALT-DESC;FMTTYPE=text/html:Jaco&#39\;s Tacos Ribbon Cutting
LOCATION:5657 Lakeland Drive Flowood\, MS 39232
UID:e.1195.5367
SEQUENCE:3
DTSTAMP:20260423T195003Z
URL:https://members.flowoodchamber.com/events/details/jaco-s-tacos-rc-5367
END:VEVENT

END:VCALENDAR
