BEGIN:VCALENDAR
VERSION:2.0
PRODID:-//ChamberMaster//Event Calendar 2.0//EN
METHOD:PUBLISH
X-PUBLISHED-TTL:P3D
REFRESH-INTERVAL:P3D
CALSCALE:GREGORIAN
BEGIN:VEVENT
DTSTART:20150414T153000Z
DTEND:20150414T153000Z
X-MICROSOFT-CDO-ALLDAYEVENT:FALSE
SUMMARY:JD's Lawn Service LLC
DESCRIPTION:Ribbon Cutting
X-ALT-DESC;FMTTYPE=text/html:Ribbon Cutting
LOCATION:Flowood Chamber office
UID:e.1195.4336
SEQUENCE:3
DTSTAMP:20260425T172333Z
URL:https://members.flowoodchamber.com/events/details/jd-s-lawn-service-llc-04-14-2015-4336
END:VEVENT

END:VCALENDAR
