BEGIN:VCALENDAR
VERSION:2.0
PRODID:-//ChamberMaster//Event Calendar 2.0//EN
METHOD:PUBLISH
X-PUBLISHED-TTL:P3D
REFRESH-INTERVAL:P3D
CALSCALE:GREGORIAN
BEGIN:VEVENT
DTSTART:20150423T153000Z
DTEND:20150423T153000Z
X-MICROSOFT-CDO-ALLDAYEVENT:FALSE
SUMMARY:JDRF RC
DESCRIPTION:Ribbon Cutting
X-ALT-DESC;FMTTYPE=text/html:Ribbon Cutting
LOCATION:2630 Southerland Street Jackson\, MS 39216
UID:e.1195.4537
SEQUENCE:3
DTSTAMP:20260425T172311Z
URL:https://members.flowoodchamber.com/events/details/jdrf-rc-04-23-2015-4537
END:VEVENT

END:VCALENDAR
