BEGIN:VCALENDAR
VERSION:2.0
PRODID:-//ChamberMaster//Event Calendar 2.0//EN
METHOD:PUBLISH
X-PUBLISHED-TTL:P3D
REFRESH-INTERVAL:P3D
CALSCALE:GREGORIAN
BEGIN:VEVENT
DTSTART:20141023T153000Z
DTEND:20141023T153000Z
X-MICROSOFT-CDO-ALLDAYEVENT:FALSE
SUMMARY:Joel Clarke & Sons Jewelry Store RC
DESCRIPTION:Ribbon Cutting
X-ALT-DESC;FMTTYPE=text/html:Ribbon Cutting
LOCATION:2475 Lakeland Drive Suite H Flowood\, MS 39232
UID:e.1195.3242
SEQUENCE:3
DTSTAMP:20260426T025441Z
URL:https://members.flowoodchamber.com/events/details/joel-clarke-sons-jewelry-store-rc-10-23-2014-3242
END:VEVENT

END:VCALENDAR
