BEGIN:VCALENDAR
VERSION:2.0
PRODID:-//ChamberMaster//Event Calendar 2.0//EN
METHOD:PUBLISH
X-PUBLISHED-TTL:P3D
REFRESH-INTERVAL:P3D
CALSCALE:GREGORIAN
BEGIN:VEVENT
DTSTART:20140917T153000Z
DTEND:20140917T153000Z
X-MICROSOFT-CDO-ALLDAYEVENT:FALSE
SUMMARY:Larry Welch RC
DESCRIPTION:Ribbon Cutting
X-ALT-DESC;FMTTYPE=text/html:Ribbon Cutting
LOCATION:Chamber office
UID:e.1195.4183
SEQUENCE:3
DTSTAMP:20260426T043546Z
URL:https://members.flowoodchamber.com/events/details/larry-welch-rc-09-17-2014-4183
END:VEVENT

END:VCALENDAR
