BEGIN:VCALENDAR
VERSION:2.0
PRODID:-//ChamberMaster//Event Calendar 2.0//EN
METHOD:PUBLISH
X-PUBLISHED-TTL:P3D
REFRESH-INTERVAL:P3D
CALSCALE:GREGORIAN
BEGIN:VEVENT
DTSTART:20150528T153000Z
DTEND:20150528T153000Z
X-MICROSOFT-CDO-ALLDAYEVENT:FALSE
SUMMARY:Lil Ms Sew & Sew
DESCRIPTION:Ribbon Cutting
X-ALT-DESC;FMTTYPE=text/html:Ribbon Cutting
LOCATION:Lil Ms Sew & Sew 1679 Old Fannin Road Suite H Flowood\, MS 39232
UID:e.1195.4548
SEQUENCE:3
DTSTAMP:20260425T153137Z
URL:https://members.flowoodchamber.com/events/details/lil-ms-sew-sew-05-28-2015-4548
END:VEVENT

END:VCALENDAR
