BEGIN:VCALENDAR
VERSION:2.0
PRODID:-//ChamberMaster//Event Calendar 2.0//EN
METHOD:PUBLISH
X-PUBLISHED-TTL:P3D
REFRESH-INTERVAL:P3D
CALSCALE:GREGORIAN
BEGIN:VEVENT
DTSTART:20180320T163000Z
DTEND:20180320T180000Z
X-MICROSOFT-CDO-ALLDAYEVENT:FALSE
SUMMARY:Lunch and Learn
DESCRIPTION:Lunch and Learn\n\nJoin us to learn about the recent and monumental changes to US tax law. \n\nHosted by: Grantham Poole
X-ALT-DESC;FMTTYPE=text/html:Lunch and Learn<br>\nJoin us to learn about the recent and monumental changes to US tax law.&nbsp\;<br>\nHosted by: Grantham Poole
LOCATION:BankFirst Financial Services-second floor
UID:e.1195.5440
SEQUENCE:3
DTSTAMP:20260423T052403Z
URL:https://members.flowoodchamber.com/events/details/lunch-and-learn-5440
END:VEVENT

END:VCALENDAR
