BEGIN:VCALENDAR
VERSION:2.0
PRODID:-//ChamberMaster//Event Calendar 2.0//EN
METHOD:PUBLISH
X-PUBLISHED-TTL:P3D
REFRESH-INTERVAL:P3D
CALSCALE:GREGORIAN
BEGIN:VEVENT
DTSTART:20171011T163000Z
DTEND:20171011T180000Z
X-MICROSOFT-CDO-ALLDAYEVENT:FALSE
SUMMARY:Lunch & Learn Active Shooter Preparedness
DESCRIPTION:Lunch & Learn\n\nSpeaker: Johnny Dewitt (City of Flowood Emergency Manager)
X-ALT-DESC;FMTTYPE=text/html:Lunch &amp\; Learn<br />\nSpeaker: Johnny Dewitt (City of Flowood Emergency Manager)
LOCATION:Flowood Library
UID:e.1195.5402
SEQUENCE:3
DTSTAMP:20260423T131952Z
URL:https://members.flowoodchamber.com/events/details/lunch-learn-active-shooter-preparedness-5402
END:VEVENT

END:VCALENDAR
