BEGIN:VCALENDAR
VERSION:2.0
PRODID:-//ChamberMaster//Event Calendar 2.0//EN
METHOD:PUBLISH
X-PUBLISHED-TTL:P3D
REFRESH-INTERVAL:P3D
CALSCALE:GREGORIAN
BEGIN:VEVENT
DTSTART;VALUE=DATE:20150513
DTEND;VALUE=DATE:20150515
TRANSP:TRANSPARENT
X-MICROSOFT-CDO-ALLDAYEVENT:TRUE
SUMMARY:Mayor's Golf Tournament
DESCRIPTION:Mayor's Golf Tournament
X-ALT-DESC;FMTTYPE=text/html:Mayor&#39\;s Golf Tournament&nbsp\;
LOCATION:The Refuge
UID:e.1195.4546
SEQUENCE:3
DTSTAMP:20260425T144709Z
URL:https://members.flowoodchamber.com/events/details/mayor-s-golf-tournament-05-13-2015-4546
END:VEVENT

END:VCALENDAR
