BEGIN:VCALENDAR
VERSION:2.0
PRODID:-//ChamberMaster//Event Calendar 2.0//EN
METHOD:PUBLISH
X-PUBLISHED-TTL:P3D
REFRESH-INTERVAL:P3D
CALSCALE:GREGORIAN
BEGIN:VEVENT
DTSTART:20160728T153000Z
DTEND:20160728T153000Z
X-MICROSOFT-CDO-ALLDAYEVENT:FALSE
SUMMARY:MBI Group\, LLC RC
DESCRIPTION:Ribbon cutting
X-ALT-DESC;FMTTYPE=text/html:Ribbon cutting
LOCATION:Rankin County Chamber 101 Service Drive Brandon\, MS 39042
UID:e.1195.5273
SEQUENCE:3
DTSTAMP:20260424T121856Z
URL:https://members.flowoodchamber.com/events/details/mbi-group-llc-rc-07-28-2016-5273
END:VEVENT

END:VCALENDAR
