BEGIN:VCALENDAR
VERSION:2.0
PRODID:-//ChamberMaster//Event Calendar 2.0//EN
METHOD:PUBLISH
X-PUBLISHED-TTL:P3D
REFRESH-INTERVAL:P3D
CALSCALE:GREGORIAN
BEGIN:VEVENT
DTSTART:20180121T133000Z
DTEND:20180128T000000Z
X-MICROSOFT-CDO-ALLDAYEVENT:FALSE
SUMMARY:Meineke Car Care Grand Opening
DESCRIPTION:Join us in celebrating the Grand Opening of the first Meineke Car Care in Mississippi! There will be a grand opening celebration held on January 21 through January 27\, 2018\, with a special offer of alignments at $59.95 for 2 or 4-wheel drive. It will culminate with a ribbon-cutting with the Flowood\, MS Chamber of Commerce on Saturday\, January 27\, at 10:30 a.m.
X-ALT-DESC;FMTTYPE=text/html:Join us in celebrating the Grand Opening of the first Meineke Car Care in Mississippi! There will be a grand opening celebration held on January 21 through January 27\, 2018\, with a special offer of alignments at $59.95 for 2 or 4-wheel drive. It will culminate with a ribbon-cutting with the Flowood\, MS Chamber of Commerce on Saturday\, January 27\, at 10:30 a.m.
LOCATION:Meineke Car Care Center No. 2771 107 Plaza Drive\, Flowood\, MS 39232 (769) 230-8068
UID:e.1195.5431
SEQUENCE:3
DTSTAMP:20260423T083209Z
URL:https://members.flowoodchamber.com/events/details/meineke-car-care-grand-opening-5431
END:VEVENT

END:VCALENDAR
