BEGIN:VCALENDAR
VERSION:2.0
PRODID:-//ChamberMaster//Event Calendar 2.0//EN
METHOD:PUBLISH
X-PUBLISHED-TTL:P3D
REFRESH-INTERVAL:P3D
CALSCALE:GREGORIAN
BEGIN:VEVENT
DTSTART:20150425T150000Z
DTEND:20150425T150000Z
X-MICROSOFT-CDO-ALLDAYEVENT:FALSE
SUMMARY:Mississippi Cajun Fest 2015
DESCRIPTION:Over 1000 pounds of FREE crawfish!\n\nEntry Fee $20 at the gate\n\nMusic by:  Andrew Pates\, Jason Miller Band\, Spank the Monkey and U.S.\n\nvisit: www.MissisisppiCajunFest.com
X-ALT-DESC;FMTTYPE=text/html:<h3><span style="font-size:14px">Over 1000 pounds of FREE crawfish!<br />\nEntry Fee $20 at the gate<br />\nMusic by: &nbsp\;Andrew Pates\, Jason Miller Band\, Spank the Monkey and U.S.<br />\nvisit: www.MissisisppiCajunFest.com</span></h3>\n
LOCATION:Old Trace Park\, Ridgeland MS
UID:e.1195.4330
SEQUENCE:3
DTSTAMP:20260425T172332Z
URL:https://members.flowoodchamber.com/events/details/mississippi-cajun-fest-2015-04-25-2015-4330
END:VEVENT

END:VCALENDAR
