BEGIN:VCALENDAR
VERSION:2.0
PRODID:-//ChamberMaster//Event Calendar 2.0//EN
METHOD:PUBLISH
X-PUBLISHED-TTL:P3D
REFRESH-INTERVAL:P3D
CALSCALE:GREGORIAN
BEGIN:VEVENT
DTSTART:20250510T150000Z
DTEND:20250510T173000Z
X-MICROSOFT-CDO-ALLDAYEVENT:FALSE
SUMMARY:Mother/Daughter Creative Bonding Time
DESCRIPTION:Still looking for a meaningful Mother's Day gift? Join us for Bloom & Bond   a creative spring retreat just for moms and daughters/granddaughters or someone special in your life. (ages 8+) Each participant will make & take   wildflower mason arrangement   a "bloom board" a mini charcuterie board workshop   capture your creations with our sweet selfie photo props.
X-ALT-DESC;FMTTYPE=text/html:Still looking for a meaningful Mother&rsquo\;s Day gift? Join us for Bloom &amp\; Bond &mdash\; a creative spring retreat just for moms and daughters/granddaughters or someone special in your life. (ages 8+) Each participant will make &amp\; take &mdash\; wildflower mason arrangement &mdash\; a &ldquo\;bloom board&rdquo\; a mini charcuterie board workshop &mdash\; capture your creations with our sweet selfie photo props.
LOCATION:Jackson Preparatory School MPR Building
UID:e.1195.6708
SEQUENCE:3
DTSTAMP:20260420T043930Z
URL:https://members.flowoodchamber.com/events/details/mother-daughter-creative-bonding-time-6708
END:VEVENT

END:VCALENDAR
