BEGIN:VCALENDAR
VERSION:2.0
PRODID:-//ChamberMaster//Event Calendar 2.0//EN
METHOD:PUBLISH
X-PUBLISHED-TTL:P3D
REFRESH-INTERVAL:P3D
CALSCALE:GREGORIAN
BEGIN:VEVENT
DTSTART:20190627T233000Z
DTEND:20190627T233000Z
X-MICROSOFT-CDO-ALLDAYEVENT:FALSE
SUMMARY:Movies-N-Moonlight
DESCRIPTION:Sponsored by: GI Associates \n\nMovie: Mary Poppins Returns
X-ALT-DESC;FMTTYPE=text/html:Sponsored by: GI Associates&nbsp\;<br />\nMovie: Mary Poppins Returns
LOCATION:Winners Circle Park
UID:e.1195.3254
SEQUENCE:3
DTSTAMP:20260422T052033Z
URL:https://members.flowoodchamber.com/events/details/movies-n-moonlight-07-14-2015-3254
END:VEVENT

END:VCALENDAR
