BEGIN:VCALENDAR
VERSION:2.0
PRODID:-//ChamberMaster//Event Calendar 2.0//EN
METHOD:PUBLISH
X-PUBLISHED-TTL:P3D
REFRESH-INTERVAL:P3D
CALSCALE:GREGORIAN
BEGIN:VEVENT
DTSTART:20250220T180000Z
DTEND:20250220T193000Z
X-MICROSOFT-CDO-ALLDAYEVENT:FALSE
SUMMARY:Networking Is Your Superpower: How to Go After & Get What You Want in Your Career
DESCRIPTION:Join us on February 20th at Mississippi Alliance of Nonprofits and Philanthropy for a lunch & learn. Discuss special topics with guest speaker Julie Liddell Whitehead\, and network with women from a variety of industries in central Mississippi! Buy tickets here.\n\n\n\nThank you to Mississippi Alliance of Nonprofits and Philanthropy for hosting this Chamber collaborative event!\n\n\n\nNetworking Is Your Superpower is a networking group for women\, where we host quarterly events in the Metro Jackson area. The purpose is to provide professional development and networking opportunities for women. This event is a Chamber collaborative between Flowood Chamber\, Greater Jackson Chamber\, and Rankin County Chamber of Commerce.
X-ALT-DESC;FMTTYPE=text/html:Join us on February 20th at Mississippi Alliance of Nonprofits and Philanthropy for a lunch &amp\; learn. Discuss special topics with guest speaker Julie Liddell Whitehead\, and network with women from a variety of industries in central Mississippi! <strong>Buy tickets&nbsp\;<a href="https://forms.gle/6noKtCJda9vqamVP6">here</a>.</strong><br />\n<br />\n<strong>Thank you to Mississippi Alliance of Nonprofits and Philanthropy for hosting this Chamber collaborative event!</strong><br />\n<br />\n<em>Networking Is Your Superpower is a networking group for women\, where we host quarterly events in the Metro Jackson area. The purpose is to provide professional development and networking opportunities for women. This event is a Chamber collaborative between Flowood Chamber\, Greater Jackson Chamber\, and Rankin County Chamber of Commerce.</em>
LOCATION:Mississippi Alliance of Nonprofits and Philanthropy Training Room
UID:e.1195.6672
SEQUENCE:3
DTSTAMP:20260422T085227Z
URL:https://members.flowoodchamber.com/events/details/networking-is-your-superpower-how-to-go-after-get-what-you-want-in-your-career-6672
END:VEVENT

END:VCALENDAR
