BEGIN:VCALENDAR
VERSION:2.0
PRODID:-//ChamberMaster//Event Calendar 2.0//EN
METHOD:PUBLISH
X-PUBLISHED-TTL:P3D
REFRESH-INTERVAL:P3D
CALSCALE:GREGORIAN
BEGIN:VEVENT
DTSTART:20250430T170000Z
DTEND:20250430T183000Z
X-MICROSOFT-CDO-ALLDAYEVENT:FALSE
SUMMARY:Networking Is Your Superpower: Say Yes to Success — Harnessing Your Inner Dialogue
DESCRIPTION:Join us on April 30th at Mississippi Alliance of Nonprofits and Philanthropy for a special networking lunch & learn where inner-dialogue coach\, Jenna Hope Harris\, will teach you tips to avoid negative self-talk!\n\n\n\nDiscuss special topics and network with women from a variety of industries in central Mississippi! Buy tickets here.\n\n\n\nThank you to Mississippi Alliance of Nonprofits and Philanthropy for hosting this Chamber collaborative event!\n\n\n\nNetworking Is Your Superpower is a networking group for women\, where we host quarterly events in the Metro Jackson area. The purpose is to provide professional development and networking opportunities for women.
X-ALT-DESC;FMTTYPE=text/html:Join us on April 30th at Mississippi Alliance of Nonprofits and Philanthropy for a special networking lunch &amp\; learn where inner-dialogue coach\, Jenna Hope Harris\, will teach you tips to avoid negative self-talk!<br>\n<br>\nDiscuss special topics and network with women from a variety of industries in central Mississippi! <strong>Buy tickets&nbsp\;<a href="https://buytickets.at/unlockleadershipconsultingllc/1619429">here</a>.</strong><br>\n<br>\n<strong>Thank you to Mississippi Alliance of Nonprofits and Philanthropy for hosting this Chamber collaborative event!</strong><br>\n<br>\n<em>Networking Is Your Superpower is a networking group for women\, where we host quarterly events in the Metro Jackson area. The purpose is to provide professional development and networking opportunities for women.</em>
LOCATION:Mississippi Alliance of Nonprofits and Philanthropy Training Room
UID:e.1195.6687
SEQUENCE:3
DTSTAMP:20260420T063847Z
URL:https://members.flowoodchamber.com/events/details/networking-is-your-superpower-say-yes-to-success-harnessing-your-inner-dialogue-6687
END:VEVENT

END:VCALENDAR
