BEGIN:VCALENDAR
VERSION:2.0
PRODID:-//ChamberMaster//Event Calendar 2.0//EN
METHOD:PUBLISH
X-PUBLISHED-TTL:P3D
REFRESH-INTERVAL:P3D
CALSCALE:GREGORIAN
BEGIN:VEVENT
DTSTART:20160915T153000Z
DTEND:20160915T153000Z
X-MICROSOFT-CDO-ALLDAYEVENT:FALSE
SUMMARY:Old Fannin Restaurant Ribbon Cutting
DESCRIPTION:Ribbon Cutting
X-ALT-DESC;FMTTYPE=text/html:Ribbon Cutting
LOCATION:1139 Old Fannin Road Brandon\, MS 39047
UID:e.1195.5286
SEQUENCE:3
DTSTAMP:20260424T093348Z
URL:https://members.flowoodchamber.com/events/details/old-fannin-restaurant-ribbon-cutting-5286
END:VEVENT

END:VCALENDAR
