BEGIN:VCALENDAR
VERSION:2.0
PRODID:-//ChamberMaster//Event Calendar 2.0//EN
METHOD:PUBLISH
X-PUBLISHED-TTL:P3D
REFRESH-INTERVAL:P3D
CALSCALE:GREGORIAN
BEGIN:VEVENT
DTSTART:20141211T163000Z
DTEND:20141211T190000Z
X-MICROSOFT-CDO-ALLDAYEVENT:FALSE
SUMMARY:Open House - Ribbon Cutting Ceremony
DESCRIPTION:ChiroHealthUSA will not only be celebrating our new membership with the Flowood Chamber of Commerce\, but we also have some great news to share!\n\n\n\nJoin us at our Open House\, Ribbon Cutting Ceremony\, 6th year anniversary party\, national attention and community celebration party.\n\n\n\nDoor prize - Food - Music and more!
X-ALT-DESC;FMTTYPE=text/html:ChiroHealthUSA will not only be celebrating our new membership with the Flowood Chamber of Commerce\, but we also have some great news to share!<br />\n<br />\nJoin us at our Open House\, Ribbon Cutting Ceremony\, 6th year anniversary party\, national attention and community celebration party.<br />\n<br />\nDoor prize - Food - Music and more!
LOCATION:ChiroHealthUSA 120 Stonecreek Blvd\, Suite 100 Flowood\, MS right behind Flowood police department off of Airport Road next to University of Phoenix.
UID:e.1195.4187
SEQUENCE:3
DTSTAMP:20260426T000408Z
URL:https://members.flowoodchamber.com/events/details/open-house-ribbon-cutting-ceremony-12-11-2014-4187
END:VEVENT

END:VCALENDAR
