BEGIN:VCALENDAR
VERSION:2.0
PRODID:-//ChamberMaster//Event Calendar 2.0//EN
METHOD:PUBLISH
X-PUBLISHED-TTL:P3D
REFRESH-INTERVAL:P3D
CALSCALE:GREGORIAN
BEGIN:VEVENT
DTSTART:20140908T154500Z
DTEND:20140908T154500Z
X-MICROSOFT-CDO-ALLDAYEVENT:FALSE
SUMMARY:Outback RC
DESCRIPTION:Ribbon Cutting
X-ALT-DESC;FMTTYPE=text/html:Ribbon Cutting
LOCATION:Outback 586 Parkway Flowood\, MS 39232
UID:e.1195.4181
SEQUENCE:3
DTSTAMP:20260426T043238Z
URL:https://members.flowoodchamber.com/events/details/outback-rc-09-08-2014-4181
END:VEVENT

END:VCALENDAR
